BEGIN:VCALENDAR
VERSION:2.0
PRODID:-//Ziber2013/
CALSCALE:GREGORIAN
BEGIN:VEVENT
UID:238715@https://www.roalddahlschool.nl
DTSTART:20260422T000000
DTEND:20260422T235959
SUMMARY:BSB 1/2A, 1/2C, 4A, 6A, 4B, 6B, 5B, 8A
DESCRIPTION:
LOCATION:Roald Dahl school\, Meetketting 1\, 1689 XD Hoorn - Zwaag
X-MICROSOFT-CDO-ALLDAYEVENT:TRUE
ATTACH;FMTTYPE=image/jpeg:/content/17058/agenda/clnt/d0359ae65337481bbb5c5504c92c87f6.png?width=1600&height=1200
SEQUENCE:0
DTSTAMP:20260421T105827
END:VEVENT
END:VCALENDAR
