BEGIN:VCALENDAR
VERSION:2.0
PRODID:-//Ziber2013/
CALSCALE:GREGORIAN
BEGIN:VEVENT
UID:238716@https://www.roalddahlschool.nl
DTSTART:20260424T000000
DTEND:20260424T235959
SUMMARY:BSB 1/2B, 1/2D, 5A, 3B, 7A, 1/2E, 7B, 3A, 8B
DESCRIPTION:
LOCATION:Roald Dahl school\, Meetketting 1\, 1689 XD Hoorn - Zwaag
X-MICROSOFT-CDO-ALLDAYEVENT:TRUE
ATTACH;FMTTYPE=image/jpeg:/content/17058/agenda/clnt/7696c1c66ccf40ae8ccd8838198cb656.png?width=1600&height=1200
SEQUENCE:0
DTSTAMP:20260421T110139
END:VEVENT
END:VCALENDAR
