BEGIN:VCALENDAR
VERSION:2.0
PRODID:-//Ziber2013/
CALSCALE:GREGORIAN
BEGIN:VEVENT
UID:238719@https://www.roalddahlschool.nl
DTSTART:20260512T000000
DTEND:20260512T235959
SUMMARY:schoolreis groep 3-4
DESCRIPTION:
LOCATION:Roald Dahl school\, Meetketting 1\, 1689 XD Hoorn - Zwaag
X-MICROSOFT-CDO-ALLDAYEVENT:TRUE
SEQUENCE:0
DTSTAMP:20260421T110028
END:VEVENT
END:VCALENDAR
