BEGIN:VCALENDAR
VERSION:2.0
PRODID:-//Ziber2013/
CALSCALE:GREGORIAN
BEGIN:VEVENT
UID:238720@https://www.roalddahlschool.nl
DTSTART:20260513T000000
DTEND:20260513T235959
SUMMARY:Studiedag (kinderen vrij)
DESCRIPTION:
LOCATION:Roald Dahl school\, Meetketting 1\, 1689 XD Hoorn - Zwaag
X-MICROSOFT-CDO-ALLDAYEVENT:TRUE
SEQUENCE:0
DTSTAMP:20260421T123610
END:VEVENT
END:VCALENDAR
