BEGIN:VCALENDAR
VERSION:2.0
PRODID:-//Ziber2013/
CALSCALE:GREGORIAN
BEGIN:VEVENT
UID:238721@https://www.roalddahlschool.nl
DTSTART:20260514T000000
DTEND:20260515T235959
SUMMARY:Hemelvaart
DESCRIPTION:
LOCATION:Roald Dahl school\, Meetketting 1\, 1689 XD Hoorn - Zwaag
X-MICROSOFT-CDO-ALLDAYEVENT:TRUE
SEQUENCE:0
DTSTAMP:20260423T115324
END:VEVENT
END:VCALENDAR
