BEGIN:VCALENDAR
VERSION:2.0
PRODID:-//Ziber2013/
CALSCALE:GREGORIAN
BEGIN:VEVENT
UID:238722@https://www.roalddahlschool.nl
DTSTART:20260520T000000
DTEND:20260522T235959
SUMMARY:kamp groep 8
DESCRIPTION:
LOCATION:Roald Dahl school\, Meetketting 1\, 1689 XD Hoorn - Zwaag
X-MICROSOFT-CDO-ALLDAYEVENT:TRUE
SEQUENCE:0
DTSTAMP:20260421T123800
END:VEVENT
END:VCALENDAR
