BEGIN:VCALENDAR
VERSION:2.0
PRODID:-//Ziber2013/
CALSCALE:GREGORIAN
BEGIN:VEVENT
UID:238723@https://www.roalddahlschool.nl
DTSTART:20260521T090000
DTEND:20260521T103000
SUMMARY:Kennismakingsochtend 9
DESCRIPTION:
LOCATION:Roald Dahl school\, Meetketting 1\, 1689 XD Hoorn - Zwaag
SEQUENCE:0
DTSTAMP:20260421T123702
END:VEVENT
END:VCALENDAR
